BEGIN:VCALENDAR
VERSION:2.0
PRODID:-//Abilities Community Services - ECPv6.8.3//NONSGML v1.0//EN
CALSCALE:GREGORIAN
METHOD:PUBLISH
X-WR-CALNAME:Abilities Community Services
X-ORIGINAL-URL:https://abilitiescommunity.com
X-WR-CALDESC:Events for Abilities Community Services
REFRESH-INTERVAL;VALUE=DURATION:PT1H
X-Robots-Tag:noindex
X-PUBLISHED-TTL:PT1H
BEGIN:VTIMEZONE
TZID:America/Vancouver
BEGIN:DAYLIGHT
TZOFFSETFROM:-0800
TZOFFSETTO:-0700
TZNAME:PDT
DTSTART:20220313T100000
END:DAYLIGHT
BEGIN:STANDARD
TZOFFSETFROM:-0700
TZOFFSETTO:-0800
TZNAME:PST
DTSTART:20221106T090000
END:STANDARD
TZID:UTC
BEGIN:STANDARD
TZOFFSETFROM:+0000
TZOFFSETTO:+0000
TZNAME:UTC
DTSTART:20220101T000000
END:STANDARD
END:VTIMEZONE
BEGIN:VEVENT
DTSTART;VALUE=DATE:20221217
DTEND;VALUE=DATE:20221218
DTSTAMP:20260425T073403
CREATED:20220117T201330Z
LAST-MODIFIED:20220117T201330Z
UID:30051-1671235200-1671321599@abilitiescommunity.com
SUMMARY:Pattie Birthday
DESCRIPTION:
URL:https://abilitiescommunity.com/event/pattie-birthday/
END:VEVENT
BEGIN:VEVENT
DTSTART;VALUE=DATE:20221211
DTEND;VALUE=DATE:20221212
DTSTAMP:20260425T073403
CREATED:20220117T201251Z
LAST-MODIFIED:20220117T201251Z
UID:30049-1670716800-1670803199@abilitiescommunity.com
SUMMARY:William Birthday
DESCRIPTION:
URL:https://abilitiescommunity.com/event/william-birthday/
END:VEVENT
BEGIN:VEVENT
DTSTART;VALUE=DATE:20221111
DTEND;VALUE=DATE:20221112
DTSTAMP:20260425T073403
CREATED:20220117T202931Z
LAST-MODIFIED:20220117T202931Z
UID:30075-1668124800-1668211199@abilitiescommunity.com
SUMMARY:Remembrance Day
DESCRIPTION:
URL:https://abilitiescommunity.com/event/remembrance-day/
END:VEVENT
BEGIN:VEVENT
DTSTART;VALUE=DATE:20221111
DTEND;VALUE=DATE:20221112
DTSTAMP:20260425T073403
CREATED:20220117T201158Z
LAST-MODIFIED:20220117T201158Z
UID:30047-1668124800-1668211199@abilitiescommunity.com
SUMMARY:John Birthday
DESCRIPTION:
URL:https://abilitiescommunity.com/event/john-birthday/
END:VEVENT
BEGIN:VEVENT
DTSTART;VALUE=DATE:20221028
DTEND;VALUE=DATE:20221029
DTSTAMP:20260425T073403
CREATED:20220117T201121Z
LAST-MODIFIED:20220117T201121Z
UID:30045-1666915200-1667001599@abilitiescommunity.com
SUMMARY:Justin Birthday
DESCRIPTION:
URL:https://abilitiescommunity.com/event/justin-birthday/
END:VEVENT
BEGIN:VEVENT
DTSTART;VALUE=DATE:20221011
DTEND;VALUE=DATE:20221012
DTSTAMP:20260425T073403
CREATED:20220117T201035Z
LAST-MODIFIED:20220117T201035Z
UID:30043-1665446400-1665532799@abilitiescommunity.com
SUMMARY:Tyson Birthday
DESCRIPTION:
URL:https://abilitiescommunity.com/event/tyson-birthday/
END:VEVENT
BEGIN:VEVENT
DTSTART;VALUE=DATE:20221010
DTEND;VALUE=DATE:20221011
DTSTAMP:20260425T073403
CREATED:20220117T202834Z
LAST-MODIFIED:20220117T202834Z
UID:30073-1665360000-1665446399@abilitiescommunity.com
SUMMARY:Thanksgiving Monday
DESCRIPTION:
URL:https://abilitiescommunity.com/event/thanksgiving-monday/
END:VEVENT
BEGIN:VEVENT
DTSTART;VALUE=DATE:20221009
DTEND;VALUE=DATE:20221010
DTSTAMP:20260425T073403
CREATED:20220117T202740Z
LAST-MODIFIED:20220117T202740Z
UID:30071-1665273600-1665359999@abilitiescommunity.com
SUMMARY:Thanksgiving Day
DESCRIPTION:
URL:https://abilitiescommunity.com/event/thanksgiving-day/
END:VEVENT
BEGIN:VEVENT
DTSTART;VALUE=DATE:20221009
DTEND;VALUE=DATE:20221010
DTSTAMP:20260425T073403
CREATED:20220117T200449Z
LAST-MODIFIED:20220117T200548Z
UID:30035-1665273600-1665359999@abilitiescommunity.com
SUMMARY:Carl Birthday
DESCRIPTION:
URL:https://abilitiescommunity.com/event/jordan-birthday/
END:VEVENT
BEGIN:VEVENT
DTSTART;TZID=UTC:20220930T080000
DTEND;TZID=UTC:20220930T170000
DTSTAMP:20260425T073403
CREATED:20220929T202707Z
LAST-MODIFIED:20220929T202707Z
UID:30722-1664524800-1664557200@abilitiescommunity.com
SUMMARY:National Reconciliation Day
DESCRIPTION:Day Program Closed
URL:https://abilitiescommunity.com/event/national-reconciliation-day/
END:VEVENT
BEGIN:VEVENT
DTSTART;VALUE=DATE:20220929
DTEND;VALUE=DATE:20220930
DTSTAMP:20260425T073403
CREATED:20220117T200718Z
LAST-MODIFIED:20220117T200718Z
UID:30039-1664409600-1664495999@abilitiescommunity.com
SUMMARY:Jordan Birthday
DESCRIPTION:
URL:https://abilitiescommunity.com/event/jordan-birthday-2/
END:VEVENT
BEGIN:VEVENT
DTSTART;VALUE=DATE:20220922
DTEND;VALUE=DATE:20220923
DTSTAMP:20260425T073403
CREATED:20220117T200756Z
LAST-MODIFIED:20220117T200756Z
UID:30041-1663804800-1663891199@abilitiescommunity.com
SUMMARY:Susan Birthday
DESCRIPTION:
URL:https://abilitiescommunity.com/event/susan-birthday/
END:VEVENT
BEGIN:VEVENT
DTSTART;VALUE=DATE:20220905
DTEND;VALUE=DATE:20220906
DTSTAMP:20260425T073403
CREATED:20220117T195543Z
LAST-MODIFIED:20220117T195951Z
UID:30022-1662336000-1662422399@abilitiescommunity.com
SUMMARY:Labour Day
DESCRIPTION:
URL:https://abilitiescommunity.com/event/family-day/
END:VEVENT
BEGIN:VEVENT
DTSTART;VALUE=DATE:20220825
DTEND;VALUE=DATE:20220826
DTSTAMP:20260425T073403
CREATED:20220117T195338Z
LAST-MODIFIED:20220117T195414Z
UID:30019-1661385600-1661471999@abilitiescommunity.com
SUMMARY:Todd Birthday
DESCRIPTION:
URL:https://abilitiescommunity.com/event/jacquie-birthday/
END:VEVENT
BEGIN:VEVENT
DTSTART;VALUE=DATE:20220801
DTEND;VALUE=DATE:20220802
DTSTAMP:20260425T073403
CREATED:20220117T202519Z
LAST-MODIFIED:20220117T202519Z
UID:30069-1659312000-1659398399@abilitiescommunity.com
SUMMARY:BC Day
DESCRIPTION:
URL:https://abilitiescommunity.com/event/bc-day/
END:VEVENT
BEGIN:VEVENT
DTSTART;VALUE=DATE:20220701
DTEND;VALUE=DATE:20220702
DTSTAMP:20260425T073403
CREATED:20220117T202445Z
LAST-MODIFIED:20220117T202445Z
UID:30067-1656633600-1656719999@abilitiescommunity.com
SUMMARY:Canada Day
DESCRIPTION:
URL:https://abilitiescommunity.com/event/canada-day/
END:VEVENT
BEGIN:VEVENT
DTSTART;TZID=America/Vancouver:20220621T080000
DTEND;TZID=America/Vancouver:20220621T170000
DTSTAMP:20260425T073403
CREATED:20220117T202253Z
LAST-MODIFIED:20220117T202253Z
UID:30065-1655798400-1655830800@abilitiescommunity.com
SUMMARY:National Aboriginal Day
DESCRIPTION:
URL:https://abilitiescommunity.com/event/national-aboriginal-day/
END:VEVENT
BEGIN:VEVENT
DTSTART;VALUE=DATE:20220620
DTEND;VALUE=DATE:20220621
DTSTAMP:20260425T073403
CREATED:20220422T205020Z
LAST-MODIFIED:20220422T205020Z
UID:30498-1655683200-1655769599@abilitiescommunity.com
SUMMARY:National Ice Cream Soda Day
DESCRIPTION:HISTORY OF NATIONAL ICE CREAM SODA DAY\nAs with most inventions\, ice cream soda was created unintentionally by the coming together of ice cream and soda. It is believed that Robert Green was trying to prepare chilled soda at a Philadelphia fair but had run out of ice shavings. He came up with the idea of adding ice cream to the soda to cool it. Thus\, the ice cream soda was born. \nNow\, there are many different stories about the invention of ice cream soda. Even though Robert Green loudly claimed to be the inventor of the ice cream soda — and even had it inscribed on his tombstone — another legend goes that it was Fred Sanders who invented the delicious summer drink. Sanders ran a confection shop and added ice cream to soda when he could not find sweet cream. \nMore people continued to claim credit for the invention of the ice cream soda\, especially because it was marketed so well and hugely popular. George Guy and Philip Mohr are two well-known claimants to the title of inventor of ice cream soda.
URL:https://abilitiescommunity.com/event/national-ice-cream-soda-day/
END:VEVENT
BEGIN:VEVENT
DTSTART;VALUE=DATE:20220617
DTEND;VALUE=DATE:20220618
DTSTAMP:20260425T073403
CREATED:20220422T205942Z
LAST-MODIFIED:20220422T205957Z
UID:30500-1655424000-1655510399@abilitiescommunity.com
SUMMARY:International Picnic Day
DESCRIPTION:HISTORY OF INTERNATIONAL PICNIC DAY\nFor many across the world\, picnics are a relaxing change of pace from their daily lives. However\, the picnic as we know it today didn’t exist until the French Revolution\, as public parks finally became available en masse. \nAlthough the French are credited with the creation of modern picnics\, globalization and individual cultures are responsible for their grand popularity. In 2018\, 55% of young Americans said having a picnic was their favorite warm-weather activity. \nAnd as the concept of picnics has spread\, a myriad of different traditions have arisen in a plethora of different places. There are very few\, if any\, cultures around the world that do not engage in picnicking in their own way. \nPicnics are a wonderful way to get outside and enjoy what your city has to offer you. And after a hike or walk\, you’ll be antsy for a nice break and a yummy meal.
URL:https://abilitiescommunity.com/event/international-picnic-day/
END:VEVENT
BEGIN:VEVENT
DTSTART;VALUE=DATE:20220606
DTEND;VALUE=DATE:20220607
DTSTAMP:20260425T073403
CREATED:20220117T200334Z
LAST-MODIFIED:20220117T200334Z
UID:30033-1654473600-1654559999@abilitiescommunity.com
SUMMARY:Jacquie Birthday
DESCRIPTION:
URL:https://abilitiescommunity.com/event/jacquie-birthday-2/
END:VEVENT
BEGIN:VEVENT
DTSTART;VALUE=DATE:20220524
DTEND;VALUE=DATE:20220525
DTSTAMP:20260425T073403
CREATED:20220422T210556Z
LAST-MODIFIED:20220422T210556Z
UID:30504-1653350400-1653436799@abilitiescommunity.com
SUMMARY:Scavenger Hunt Day
DESCRIPTION:HISTORY OF NATIONAL SCAVENGER HUNT DAY\nThough no one knows the true origin of the first scavenger hunts\, which evolved from folk games\, Elsa Maxwell has been credited with the creation and popularization of the scavenger hunt in the 1930’s. Elsa Maxwell\, an American author\, gossip columnist\, actress\, songwriter\, screenwriter\, and radio personality who was dubbed “hostess with the mostest”\, had an affinity for throwing luxurious and entertaining parties for celebrities\, political figures\, and New York’s elite. She often organized scavenger hunts for the guests\, that involved roaming around town\, seeking objects from a list. Players were not allowed to buy the objects\, but rather\, beg\, barter\, or work for them. Sometimes\, the scavenger hunts included riddles\, or ‘clues’\, on each item\, increasing the game’s difficulty. The team with the most items\, or the first to complete the list\, won.  \nIt’s a popular game today\, especially for children\, around holidays like Easter\, Christmas\, Halloween\, or birthday parties. Adults could set up an elaborate maze of clues and items for their children to find\, that would keep their children busy for hours. At some Universities\, fraternities or sororities may even include a scavenger hunt as a series of challenges for their potential new members\, or ‘pledges’. The games are a great way to encourage healthy competition\, discover new places\, promote exercise\, and stoke the imagination of all parties involved. Scavenger games could entertain adults and children alike. The games are entertaining to whoever can open their minds\, and tap into their childlike sense of play and wonder.
URL:https://abilitiescommunity.com/event/scavenger-hunt-day/
END:VEVENT
BEGIN:VEVENT
DTSTART;VALUE=DATE:20220523
DTEND;VALUE=DATE:20220524
DTSTAMP:20260425T073403
CREATED:20220117T202154Z
LAST-MODIFIED:20220117T202154Z
UID:30063-1653264000-1653350399@abilitiescommunity.com
SUMMARY:Victoria Day
DESCRIPTION:
URL:https://abilitiescommunity.com/event/victoria-day/
END:VEVENT
BEGIN:VEVENT
DTSTART;VALUE=DATE:20220516
DTEND;VALUE=DATE:20220517
DTSTAMP:20260425T073403
CREATED:20220422T211001Z
LAST-MODIFIED:20220422T211103Z
UID:30506-1652659200-1652745599@abilitiescommunity.com
SUMMARY:National BBQ Day
DESCRIPTION:HISTORY OF NATIONAL BARBECUE DAY\nBarbecues are one of America’s favorite pastimes. Since the activity is highly common in the U.S.\, it is no surprise that a special day has been dedicated to celebrating the barbecuing tradition. \nAlthough the concept of barbecuing did not originate in America\, the activity has become an essential part of American culture today. The history of barbecuing in the U.S. goes back to colonial times where any celebration was incomplete without a cookout. After the Revolutionary War was won and the first bridge was built over the Missouri River\, barbecue celebrations erupted all over the nation. Even the American presidents are famous for hosting massive barbecues during times of success and on days of special observances. In fact\, George Washington’s diary is said to have referenced a barbecue event that lasted for three days — that’s how deeply rooted barbecuing is in the country’s history! \nWe’ll BBQ Hot Dogs 
URL:https://abilitiescommunity.com/event/national-bbq-day/
END:VEVENT
BEGIN:VEVENT
DTSTART;VALUE=DATE:20220515
DTEND;VALUE=DATE:20220516
DTSTAMP:20260425T073403
CREATED:20220117T195250Z
LAST-MODIFIED:20220117T195250Z
UID:30017-1652572800-1652659199@abilitiescommunity.com
SUMMARY:Brendon Birthday
DESCRIPTION:
URL:https://abilitiescommunity.com/event/brendon-birthday/
END:VEVENT
BEGIN:VEVENT
DTSTART;VALUE=DATE:20220512
DTEND;VALUE=DATE:20220513
DTSTAMP:20260425T073403
CREATED:20220117T195204Z
LAST-MODIFIED:20220117T195204Z
UID:30015-1652313600-1652399999@abilitiescommunity.com
SUMMARY:Glenn Birthday
DESCRIPTION:
URL:https://abilitiescommunity.com/event/glenn-birthday/
END:VEVENT
BEGIN:VEVENT
DTSTART;VALUE=DATE:20220508
DTEND;VALUE=DATE:20220509
DTSTAMP:20260425T073403
CREATED:20220422T210201Z
LAST-MODIFIED:20220422T212952Z
UID:30502-1651968000-1652054399@abilitiescommunity.com
SUMMARY:Mothers Day
DESCRIPTION:
URL:https://abilitiescommunity.com/event/mothers-day/
END:VEVENT
BEGIN:VEVENT
DTSTART;VALUE=DATE:20220505
DTEND;VALUE=DATE:20220506
DTSTAMP:20260425T073403
CREATED:20220422T203803Z
LAST-MODIFIED:20220422T204708Z
UID:30490-1651708800-1651795199@abilitiescommunity.com
SUMMARY:Cinco de Mayo
DESCRIPTION:TRADITIONS FOR CINCO DE MAYO\nIn Mexico\, the majority of the Cinco de Mayo celebrations occur in Puebla\, where the battle had taken place. People dress up either as French and Mexican soldiers or in colorful outfits to participate in large parades. Patriotic clothing is sold by vendors for people to wear and stalls selling Mexican food are also found everywhere. Although tacos and margaritas are consumed the most on this holiday\, as well as mole poblano\, which is the official dish of Cinco de Mayo. The battle is also sometimes reenacted for locals and tourists to witness the Mexicans’ grand victory against the French troops. \nCinco de Mayo is also observed in the United States. Costume parties are hosted for friends and family\, with the colors of the Mexican flag (red\, white\, and green) used in decorations. Mexican folk music is played and danced to. The celebrations are also taken to the streets with large parades and special promotions on Mexican food.
URL:https://abilitiescommunity.com/event/cinco-de-mayo/
END:VEVENT
BEGIN:VEVENT
DTSTART;VALUE=DATE:20220503
DTEND;VALUE=DATE:20220504
DTSTAMP:20260425T073403
CREATED:20220422T213257Z
LAST-MODIFIED:20220422T214343Z
UID:30510-1651536000-1651622399@abilitiescommunity.com
SUMMARY:Mothers Day Crafts
DESCRIPTION:
URL:https://abilitiescommunity.com/event/mothers-day-craft/
END:VEVENT
BEGIN:VEVENT
DTSTART;VALUE=DATE:20220501
DTEND;VALUE=DATE:20220502
DTSTAMP:20260425T073403
CREATED:20220117T194926Z
LAST-MODIFIED:20220117T194954Z
UID:30012-1651363200-1651449599@abilitiescommunity.com
SUMMARY:Tak Birthday
DESCRIPTION:
URL:https://abilitiescommunity.com/event/andrew-birthday/
END:VEVENT
BEGIN:VEVENT
DTSTART;VALUE=DATE:20220418
DTEND;VALUE=DATE:20220419
DTSTAMP:20260425T073403
CREATED:20220117T202115Z
LAST-MODIFIED:20220117T202115Z
UID:30061-1650240000-1650326399@abilitiescommunity.com
SUMMARY:Easter Monday
DESCRIPTION:
URL:https://abilitiescommunity.com/event/easter-monday/
END:VEVENT
END:VCALENDAR