BEGIN:VCALENDAR
VERSION:2.0
PRODID:-//Abilities Community Services - ECPv6.8.3//NONSGML v1.0//EN
CALSCALE:GREGORIAN
METHOD:PUBLISH
X-WR-CALNAME:Abilities Community Services
X-ORIGINAL-URL:https://abilitiescommunity.com
X-WR-CALDESC:Events for Abilities Community Services
REFRESH-INTERVAL;VALUE=DURATION:PT1H
X-Robots-Tag:noindex
X-PUBLISHED-TTL:PT1H
BEGIN:VTIMEZONE
TZID:America/Vancouver
BEGIN:DAYLIGHT
TZOFFSETFROM:-0800
TZOFFSETTO:-0700
TZNAME:PDT
DTSTART:20210314T100000
END:DAYLIGHT
BEGIN:STANDARD
TZOFFSETFROM:-0700
TZOFFSETTO:-0800
TZNAME:PST
DTSTART:20211107T090000
END:STANDARD
BEGIN:DAYLIGHT
TZOFFSETFROM:-0800
TZOFFSETTO:-0700
TZNAME:PDT
DTSTART:20220313T100000
END:DAYLIGHT
BEGIN:STANDARD
TZOFFSETFROM:-0700
TZOFFSETTO:-0800
TZNAME:PST
DTSTART:20221106T090000
END:STANDARD
TZID:UTC
BEGIN:STANDARD
TZOFFSETFROM:+0000
TZOFFSETTO:+0000
TZNAME:UTC
DTSTART:20220101T000000
END:STANDARD
END:VTIMEZONE
BEGIN:VEVENT
DTSTART;VALUE=DATE:20220418
DTEND;VALUE=DATE:20220419
DTSTAMP:20260425T064633
CREATED:20220117T194315Z
LAST-MODIFIED:20220117T194442Z
UID:30003-1650240000-1650326399@abilitiescommunity.com
SUMMARY:Marjorie Birthday
DESCRIPTION:
URL:https://abilitiescommunity.com/event/melissa-birthday/
END:VEVENT
BEGIN:VEVENT
DTSTART;VALUE=DATE:20220417
DTEND;VALUE=DATE:20220418
DTSTAMP:20260425T064633
CREATED:20220117T201937Z
LAST-MODIFIED:20220117T201937Z
UID:30059-1650153600-1650239999@abilitiescommunity.com
SUMMARY:Easter
DESCRIPTION:
URL:https://abilitiescommunity.com/event/easter/
END:VEVENT
BEGIN:VEVENT
DTSTART;VALUE=DATE:20220415
DTEND;VALUE=DATE:20220416
DTSTAMP:20260425T064633
CREATED:20220117T201856Z
LAST-MODIFIED:20220117T201856Z
UID:30057-1649980800-1650067199@abilitiescommunity.com
SUMMARY:Good Friday
DESCRIPTION:
URL:https://abilitiescommunity.com/event/good-friday/
END:VEVENT
BEGIN:VEVENT
DTSTART;VALUE=DATE:20220413
DTEND;VALUE=DATE:20220414
DTSTAMP:20260425T064633
CREATED:20220117T200129Z
LAST-MODIFIED:20220117T200129Z
UID:30031-1649808000-1649894399@abilitiescommunity.com
SUMMARY:Andrew Birthday
DESCRIPTION:
URL:https://abilitiescommunity.com/event/andrew-birthday-2/
END:VEVENT
BEGIN:VEVENT
DTSTART;VALUE=DATE:20220413
DTEND;VALUE=DATE:20220414
DTSTAMP:20260425T064633
CREATED:20220117T194748Z
LAST-MODIFIED:20220117T194748Z
UID:30010-1649808000-1649894399@abilitiescommunity.com
SUMMARY:Sarah Birthday
DESCRIPTION:
URL:https://abilitiescommunity.com/event/sarah-birthday/
END:VEVENT
BEGIN:VEVENT
DTSTART;VALUE=DATE:20220321
DTEND;VALUE=DATE:20220322
DTSTAMP:20260425T064633
CREATED:20220309T173455Z
LAST-MODIFIED:20220309T173725Z
UID:30356-1647820800-1647907199@abilitiescommunity.com
SUMMARY:World Down Syndrome Day
DESCRIPTION:
URL:https://abilitiescommunity.com/event/world-down-syndrome-day/
END:VEVENT
BEGIN:VEVENT
DTSTART;VALUE=DATE:20220317
DTEND;VALUE=DATE:20220318
DTSTAMP:20260425T064633
CREATED:20220305T174723Z
LAST-MODIFIED:20220309T173945Z
UID:30341-1647475200-1647561599@abilitiescommunity.com
SUMMARY:St. Patrick's Day
DESCRIPTION:
URL:https://abilitiescommunity.com/event/st-patricks-day/
END:VEVENT
BEGIN:VEVENT
DTSTART;VALUE=DATE:20220308
DTEND;VALUE=DATE:20220309
DTSTAMP:20260425T064633
CREATED:20220308T141734Z
LAST-MODIFIED:20220308T141734Z
UID:30353-1646697600-1646783999@abilitiescommunity.com
SUMMARY:Today Is International Women's Day
DESCRIPTION:
URL:https://abilitiescommunity.com/event/today-is-international-womens-day/
END:VEVENT
BEGIN:VEVENT
DTSTART;VALUE=DATE:20220223
DTEND;VALUE=DATE:20220224
DTSTAMP:20260425T064633
CREATED:20220129T220742Z
LAST-MODIFIED:20220129T220742Z
UID:30162-1645574400-1645660799@abilitiescommunity.com
SUMMARY:Pink Shirt Day
DESCRIPTION:Now a movement celebrated across the globe\, Pink Shirt Day has humble beginnings. Inspired by an act of kindness in small-town Nova Scotia\, CKNW Kids’ Fund\, working with partners Boys & Girls Clubs and 980 CKNW\, was inspired to raise funds to support anti-bullying programs. Here is a snippet of an article detailing the original incident: \n\n\n\n\n\n\n\n\n\n\n\n\n“David Shepherd\, Travis Price and their teenage friends organized a high-school protest to wear pink in sympathy with a Grade 9 boy who was being bullied [for wearing a pink shirt]…[They] took a stand against bullying when they protested against the harassment of a new Grade 9 student by distributing pink T-shirts to all the boys in their school. ‘I learned that two people can come up with an idea\, run with it\, and it can do wonders\,’ says Mr. Price\, 17\, who organized the pink protest. ‘Finally\, someone stood up for a weaker kid.’ So Mr. Shepherd and some other headed off to a discount store and bought 50 pink tank tops. They sent out message to schoolmates that night\, and the next morning they hauled the shirts to school in a plastic bag. As they stood in the foyer handing out the shirts\, the bullied boy walked in. His face spoke volumes. ‘It looked like a huge weight was lifted off his shoulders\,’ Mr. Price recalled. The bullies were never heard from again.”— GLOBE & MAIL\n\n\n\n\n\n\n\n\n\n\n\nAfter David and Travis’ act of kindness in 2007\, CKNW was inspired to help other youth affected by bullying\, with many staff members wearing pink shirts and collecting funds to support Boys and Girls Clubs. Since then\, the idea has only grown each year\, with worldwide support and participation. Countries across the globe are now organizing anti-bullying fundraisers of their own\, including Japan\, New Zealand\, China\, Panama\, and numerous others. In fact\, last year alone\, people in almost 180 countries shared their support of Pink Shirt Day through social media posts and donations. \nPink Shirt Day falls on the last Wednesday of February every year; join us next Pink Shirt Day on February 23rd\, 2022 in our mission to create a more kind\, inclusive world by raising awareness and funds for anti-bullying initiatives.
URL:https://abilitiescommunity.com/event/pink-shirt-day/
END:VEVENT
BEGIN:VEVENT
DTSTART;VALUE=DATE:20220221
DTEND;VALUE=DATE:20220222
DTSTAMP:20260425T064633
CREATED:20220117T201759Z
LAST-MODIFIED:20220117T201759Z
UID:30055-1645401600-1645487999@abilitiescommunity.com
SUMMARY:Family Day
DESCRIPTION:
URL:https://abilitiescommunity.com/event/family-day-2/
END:VEVENT
BEGIN:VEVENT
DTSTART;VALUE=DATE:20220221
DTEND;VALUE=DATE:20220222
DTSTAMP:20260425T064633
CREATED:20220117T193735Z
LAST-MODIFIED:20220117T193924Z
UID:29996-1645401600-1645487999@abilitiescommunity.com
SUMMARY:Eddie Birthday
DESCRIPTION:
URL:https://abilitiescommunity.com/event/jeremy-birthday/
END:VEVENT
BEGIN:VEVENT
DTSTART;TZID=America/Vancouver:20220220T080000
DTEND;TZID=America/Vancouver:20220220T150000
DTSTAMP:20260425T064633
CREATED:20220122T042858Z
LAST-MODIFIED:20220122T042936Z
UID:30130-1645344000-1645369200@abilitiescommunity.com
SUMMARY:National Love Your Pet Day
DESCRIPTION:February 20 is National Love Your Pet Day\, a holiday where people show love and appreciation for their companions and best friends\, their pets! The bond between humans and their pets is very strong\, and National Love Your Pet Day is all about celebrating that relationship. Pets love us unconditionally\, so today is all about doing the same for them. \nNational Love Your Pet Day is about making all pets feel special\, whether they are dogs\, cats\, fish\, reptiles\, birds\, or rodents\, it does not matter. \nNational Love Your Pet Day Activities\nMake sure your pet has a happy National Love Your Pet Day by doing all of their favorite things! Most pets are happy just getting any attention\, so don’t forget to cuddle and play with them a lot today. The way to some pet’s hearts is through their stomach\, so get your pet their favorite\, most delicious treats\, it is a special day after all. This day is also the perfect excuse to spoil them with a new toy. And finally\, if your pet enjoys being outside\, take them somewhere new like the beach or a big park\, let them explore the world. \nWe are all very proud of our pets\, so we love to show them off. National Love Your Pet Day is the perfect excuse to flood your social media with cute images and photos of your pets! \nIf you want to share the love but don’t own a pet\, National Love Your Pet Day is the perfect opportunity to talk to some shelters about the possibility of adopting one.
URL:https://abilitiescommunity.com/event/national-love-your-pet-day/
END:VEVENT
BEGIN:VEVENT
DTSTART;VALUE=DATE:20220214
DTEND;VALUE=DATE:20220215
DTSTAMP:20260425T064633
CREATED:20220117T205016Z
LAST-MODIFIED:20220117T205016Z
UID:30083-1644796800-1644883199@abilitiescommunity.com
SUMMARY:Valentine Day
DESCRIPTION:
URL:https://abilitiescommunity.com/event/valentine-day/
END:VEVENT
BEGIN:VEVENT
DTSTART;TZID=America/Vancouver:20220213T150000
DTEND;TZID=America/Vancouver:20220213T190000
DTSTAMP:20260425T064633
CREATED:20220127T152922Z
LAST-MODIFIED:20220127T152922Z
UID:30156-1644764400-1644778800@abilitiescommunity.com
SUMMARY:Super Bowl
DESCRIPTION:
URL:https://abilitiescommunity.com/event/super-bowl/
END:VEVENT
BEGIN:VEVENT
DTSTART;VALUE=DATE:20220212
DTEND;VALUE=DATE:20220213
DTSTAMP:20260425T064633
CREATED:20220117T194643Z
LAST-MODIFIED:20220117T194643Z
UID:30008-1644624000-1644710399@abilitiescommunity.com
SUMMARY:Melissa Birthday
DESCRIPTION:
URL:https://abilitiescommunity.com/event/melissa-birthday-2/
END:VEVENT
BEGIN:VEVENT
DTSTART;VALUE=DATE:20220201
DTEND;VALUE=DATE:20220202
DTSTAMP:20260425T064633
CREATED:20220117T204810Z
LAST-MODIFIED:20220127T153143Z
UID:30081-1643673600-1643759999@abilitiescommunity.com
SUMMARY:Black History Month
DESCRIPTION:National Black History Month has received official recognition in Canada and the United States\, however\, it is now spreading across the world\, with the UK\, Ireland\, and the Netherlands getting involved. With that in mind\, it is now time to reveal more about observing this month and the unique history that is behind it. \n\n\nWho started National Black History Month?  \nSeveral people played a part in the establishment of Black History Month. Its origins date back to 1926 when Carter G. Woodhouse\, a black historian\, began the observance of Negro History Week celebrated in February. Eventually\, in the 1960s\, students at colleges and universities began celebrating for a month and the date was made official in 1976. \n\n\nWhen did National Black History Month start? \nThe first recognition of Black History Month in the United States was in 1976. Although Negro History Week had been celebrated for 50 years (usually in early February)\, the observance was expanded into a full month unofficially in the 1960s through students on college campuses. \n\n\nWhy is National Black History Month celebrated in February? \nFebruary is the birth month for two prominent leaders who played an important part in US Black History. This include President Abraham Lincoln (February 12) who fought against slavery in the Civil War\, as well as African American abolitionist and author Frederick Douglass (February 14). \n\n\nWhere did National Black History Month start? \nWhile the first officially recognized Black History Month in the US is initiated by President Gerald Ford in the White House\, its origins go back further. In 1915\, Carter G. Woodhouse and some friends travel from Chicago to Washington DC to participate in a celebration of 50 years of emancipation. \n\n\nWhat other countries celebrate Black History Month?  \nOnly the US and Canada celebrate National Black History Month in February. Other countries\, such as the Netherlands\, United Kingdom and Ireland\, tend to celebrate black history in October.
URL:https://abilitiescommunity.com/event/black-history-month/
END:VEVENT
BEGIN:VEVENT
DTSTART;VALUE=DATE:20220201
DTEND;VALUE=DATE:20220202
DTSTAMP:20260425T064633
CREATED:20220117T204551Z
LAST-MODIFIED:20220127T153237Z
UID:30079-1643673600-1643759999@abilitiescommunity.com
SUMMARY:National Inclusion Month
DESCRIPTION:North American Inclusion Month (NAIM) was created by the Yachad/National Jewish Council for Disabilities. Now some five years old\, the North American Inclusion Month was established as a way of recognising the need for more opportunities for people with disabilities\, including in both employment and education. February 2nd\, 2010 saw a U.S. House of Representatives resolution\, which acknowledged the goals of NAIM. \nNAIM is an opportunity for society to be more inclusive regarding people with disabilities. Regardless of an individual’s disabilities the North American Inclusion Month aims to make them feel every bit a part of society as an able-bodied person. The month is not in place to create a better understanding of a disabled person’s needs and aspirations for just four weeks. The North American Inclusion Month is used as a way of galvanising a more positive approach\, concerning people with disabilities\, for the whole year. \nMaking society more inclusive for people with disabilities can begin with simple individual actions during NAIM. Going out of one’s way to interact more with people with disabilities is one example. Often people will not interact with people with disabilities because they are nervous about saying or doing the right thing. However\, not feeling part of society is what will often hurt a disabled person most of all. \nFrom children to adults\, people with disabilities can feel part of things throughout North American Inclusion Month. Sport should also be inclusive\, and this can be achieved by adapting aspects of that sport where necessary. Children at school\, who are affected by hearing or sight problems\, can be helped by aids\, which will make them able to enjoy a lesson just as much as their classmates. For elderly people with disabilities a nostalgia night\, which includes a sing-along\, can help bring back happy memories.
URL:https://abilitiescommunity.com/event/national-inclusion-month/
END:VEVENT
BEGIN:VEVENT
DTSTART;VALUE=DATE:20220201
DTEND;VALUE=DATE:20220202
DTSTAMP:20260425T064633
CREATED:20220117T203510Z
LAST-MODIFIED:20220122T053529Z
UID:30077-1643673600-1643759999@abilitiescommunity.com
SUMMARY:Chinese New Year
DESCRIPTION:https://www.chinahighlights.com/travelguide/festivals/chinese-new-year-why-of-new-year.htm
URL:https://abilitiescommunity.com/event/chinese-new-year/
END:VEVENT
BEGIN:VEVENT
DTSTART;VALUE=DATE:20220101
DTEND;VALUE=DATE:20220102
DTSTAMP:20260425T064633
CREATED:20220117T201712Z
LAST-MODIFIED:20220117T201712Z
UID:30053-1640995200-1641081599@abilitiescommunity.com
SUMMARY:New Years Day
DESCRIPTION:
URL:https://abilitiescommunity.com/event/new-years-day/
END:VEVENT
BEGIN:VEVENT
DTSTART;VALUE=DATE:20210630
DTEND;VALUE=DATE:20210701
DTSTAMP:20260425T064633
CREATED:20210630T022938Z
LAST-MODIFIED:20210630T022938Z
UID:29249-1625011200-1625097599@abilitiescommunity.com
SUMMARY:Listening to Indigenous Voices
DESCRIPTION:
URL:https://abilitiescommunity.com/event/listening-to-indigenous-voices/
END:VEVENT
END:VCALENDAR